BEGIN:VCALENDAR
VERSION:2.0
PRODID:-//Fellowship of Alberta Bears - ECPv6.15.20//NONSGML v1.0//EN
CALSCALE:GREGORIAN
METHOD:PUBLISH
X-WR-CALNAME:Fellowship of Alberta Bears
X-ORIGINAL-URL:https://albearta.org
X-WR-CALDESC:Events for Fellowship of Alberta Bears
REFRESH-INTERVAL;VALUE=DURATION:PT1H
X-Robots-Tag:noindex
X-PUBLISHED-TTL:PT1H
BEGIN:VTIMEZONE
TZID:America/Edmonton
BEGIN:DAYLIGHT
TZOFFSETFROM:-0700
TZOFFSETTO:-0600
TZNAME:MDT
DTSTART:20240310T090000
END:DAYLIGHT
BEGIN:STANDARD
TZOFFSETFROM:-0600
TZOFFSETTO:-0700
TZNAME:MST
DTSTART:20241103T080000
END:STANDARD
BEGIN:DAYLIGHT
TZOFFSETFROM:-0700
TZOFFSETTO:-0600
TZNAME:MDT
DTSTART:20250309T090000
END:DAYLIGHT
BEGIN:STANDARD
TZOFFSETFROM:-0600
TZOFFSETTO:-0700
TZNAME:MST
DTSTART:20251102T080000
END:STANDARD
BEGIN:DAYLIGHT
TZOFFSETFROM:-0700
TZOFFSETTO:-0600
TZNAME:MDT
DTSTART:20260308T090000
END:DAYLIGHT
BEGIN:STANDARD
TZOFFSETFROM:-0600
TZOFFSETTO:-0700
TZNAME:MST
DTSTART:20261101T080000
END:STANDARD
END:VTIMEZONE
BEGIN:VEVENT
DTSTART;TZID=America/Edmonton:20251211T200000
DTEND;TZID=America/Edmonton:20251211T213000
DTSTAMP:20260420T133920
CREATED:20251203T232018Z
LAST-MODIFIED:20251203T232018Z
UID:2136-1765483200-1765488600@albearta.org
SUMMARY:YYC FAB Gets Wet
DESCRIPTION:💦 FAB Gets Wet: Bear SwimJoin us December 11 at 8 PM at the Trico Centre for Family Wellness for a fun\, relaxed evening in the pool. Come cool off\, unwind\, and enjoy some quality time with your fellow Calgary bears.
URL:https://albearta.org/event/yyc-fab-gets-wet/
LOCATION:Trico Center Calgary\, 11150 Bonaventure Dr. SE\, Calgary\, Alberta\, Canada
CATEGORIES:🏊‍♂️ Bear Swim
ATTACH;FMTTYPE=image/png:https://albearta.org/wp-content/uploads/2025/12/Dec-11-YYC-FAB-Goes-Swimming.png
END:VEVENT
END:VCALENDAR