BEGIN:VCALENDAR
VERSION:2.0
PRODID:-//Fellowship of Alberta Bears - ECPv6.15.20//NONSGML v1.0//EN
CALSCALE:GREGORIAN
METHOD:PUBLISH
X-WR-CALNAME:Fellowship of Alberta Bears
X-ORIGINAL-URL:https://albearta.org
X-WR-CALDESC:Events for Fellowship of Alberta Bears
REFRESH-INTERVAL;VALUE=DURATION:PT1H
X-Robots-Tag:noindex
X-PUBLISHED-TTL:PT1H
BEGIN:VTIMEZONE
TZID:America/Edmonton
BEGIN:DAYLIGHT
TZOFFSETFROM:-0700
TZOFFSETTO:-0600
TZNAME:MDT
DTSTART:20240310T090000
END:DAYLIGHT
BEGIN:STANDARD
TZOFFSETFROM:-0600
TZOFFSETTO:-0700
TZNAME:MST
DTSTART:20241103T080000
END:STANDARD
BEGIN:DAYLIGHT
TZOFFSETFROM:-0700
TZOFFSETTO:-0600
TZNAME:MDT
DTSTART:20250309T090000
END:DAYLIGHT
BEGIN:STANDARD
TZOFFSETFROM:-0600
TZOFFSETTO:-0700
TZNAME:MST
DTSTART:20251102T080000
END:STANDARD
BEGIN:DAYLIGHT
TZOFFSETFROM:-0700
TZOFFSETTO:-0600
TZNAME:MDT
DTSTART:20260308T090000
END:DAYLIGHT
BEGIN:STANDARD
TZOFFSETFROM:-0600
TZOFFSETTO:-0700
TZNAME:MST
DTSTART:20261101T080000
END:STANDARD
END:VTIMEZONE
BEGIN:VEVENT
DTSTART;TZID=America/Edmonton:20250817T110000
DTEND;TZID=America/Edmonton:20250817T160000
DTSTAMP:20260420T234218
CREATED:20250725T023621Z
LAST-MODIFIED:20250725T023853Z
UID:1977-1755428400-1755446400@albearta.org
SUMMARY:FAB YYC - Bears on the Bow
DESCRIPTION:🌊 Fellowship of Alberta Bears – Floating on the Bow 2025 \nDate: Sunday\, August 17\, 2025Time: 11:00 AM (Meet-up & Launch)Location: Calgary – Bow River – Baker Park Boat LaunchDuration: Until we reach the end (approx. 2–4 hours\, depending on river flow) \nJoin the Fellowship of Alberta Bears for our annual summertime float down Calgary’s beautiful Bow River! It’s a relaxed\, sunny day on the water with friendly faces\, inflatable fun\, and the gorgeous Alberta scenery. \nBring your own floatie or rent everything you need from our friends at Lazy Day Raft Rentals — they’ve got tubes\, rafts\, and all the gear to keep you safe and comfortable. Visit lazydayraftrentals.com to reserve in advance. \nWhether you’re floating solo or tying up with a crew\, it’s all about enjoying the ride with fellow bears\, cubs\, chasers\, and allies in a supportive and inclusive community setting. \nWhat to Bring: \n\nYour own inflatable (or rent from Lazy Day Raft Rentals)\nLife jacket (required by law)\nSunscreen\, hat\, and sunglasses\nWater shoes or sandals\nSnacks and water (no glass containers)\nDry bag for valuables\nRope if you’d like to tie up with friends\n\nImportant Notes: \n\nLaunch is at 11:00 AM sharp – please arrive on time.\nStay up-to-date with weather and river conditions.\nHelp keep the Bow clean — pack out what you pack in.\nStop at Edworthy Park for a rest\, snack\, or some ice cream!\nA post-float social may follow — details TBA.\n\nLet’s float\, connect\, and enjoy summer together! 🐻☀️🌊
URL:https://albearta.org/event/fab-yyc-bears-on-the-bow/
LOCATION:Baker Park Boat Launch\, Baker Park\, Calgary\, Alberta\, T3L 1S5\, Canada
CATEGORIES:Picnic,🏊‍♂️ Bear Swim
ATTACH;FMTTYPE=image/png:https://albearta.org/wp-content/uploads/2025/07/Bears-on-the-Bow-1.png
END:VEVENT
BEGIN:VEVENT
DTSTART;TZID=America/Edmonton:20250713T140000
DTEND;TZID=America/Edmonton:20250713T210000
DTSTAMP:20260420T234218
CREATED:20250616T004629Z
LAST-MODIFIED:20250616T004629Z
UID:1905-1752415200-1752440400@albearta.org
SUMMARY:YYC - FAB Stanley Park BBQ\, Potluck & Swim
DESCRIPTION:🎉 FAB BBQ & Swim Annual Event 🌞Date: Sunday July 13\, 2025Time: 2pm to 9pmLocation: Stanley Park Calgary \nGet ready for sunshine\, splashes\, and seriously good BBQ! The FAB BBQ & Swim Annual  \nEvent is back and better than ever. Join friends and our FAB community for a day filled with delicious food\, poolside fun\, and great vibes. Bring your chairs and tables as we are setting up away from the playground. \n🌭 BBQ Feast – 2-8pm Juicy burgers\, Drinks and a Pot Luck for all (bring your best summer dish)🏖️ Pool Party – 8-9pm – Dive in\, cool off\, and soak up the sun. Don’t forget your swimsuit!🎶 Music & Games – Great tunes\, games\, and activities for everyone. \nWhether you’re cannonballing into the pool or just relaxing with a plate of BBQ\, this is the summer celebration you won’t want to miss. Bring your appetite\, your energy\, and your best floatie! \n📣 RSVP by July 11th Tickets available https://www.zeffy.com/ticketing/yyc-stanley-park-bbq-and-swim 
URL:https://albearta.org/event/yyc-fab-stanley-park-bbq-potluck-swim/
LOCATION:Stanley Park\, 330 42 Ave SW\, Calgary\, Alberta\, T2S 1A7\, Canada
CATEGORIES:♿ Accessible,Picnic,🎫 Ticketed Event,🏊‍♂️ Bear Swim
ATTACH;FMTTYPE=image/png:https://albearta.org/wp-content/uploads/2025/06/Sunday-July-13th-Facebook-App.png
END:VEVENT
BEGIN:VEVENT
DTSTART;TZID=America/Edmonton:20250622T130000
DTEND;TZID=America/Edmonton:20250622T170000
DTSTAMP:20260420T234218
CREATED:20250601T202139Z
LAST-MODIFIED:20250614T191737Z
UID:1850-1750597200-1750611600@albearta.org
SUMMARY:YYC Bears Picnic in The Park
DESCRIPTION:It’s time for the bears to play in the park!!! Sunday June 22 at 1pm – Its a Bears Picnic in Edworthy Park. Bring your chairs\, your own food\, maybe some to share\, and games and pets cause afterwards we are going for a dog walk!!! Weather permitting.\nHope to see you there!!!!!!!
URL:https://albearta.org/event/yyc-bears-picnic-in-the-park/
LOCATION:Edworthy Park\, 5050 Spruce Drive SW\, Calgary\, Alberta\, T3c3B2
CATEGORIES:Picnic,👨‍👨‍👧‍👦 Family Friendly
ATTACH;FMTTYPE=image/png:https://albearta.org/wp-content/uploads/2025/06/To-have-a-chat-play-games-together-and-share-food-Followed-by-dog-walk-3.png
END:VEVENT
END:VCALENDAR