BEGIN:VCALENDAR
VERSION:2.0
PRODID:-//Fellowship of Alberta Bears - ECPv6.15.20//NONSGML v1.0//EN
CALSCALE:GREGORIAN
METHOD:PUBLISH
X-WR-CALNAME:Fellowship of Alberta Bears
X-ORIGINAL-URL:https://albearta.org
X-WR-CALDESC:Events for Fellowship of Alberta Bears
REFRESH-INTERVAL;VALUE=DURATION:PT1H
X-Robots-Tag:noindex
X-PUBLISHED-TTL:PT1H
BEGIN:VTIMEZONE
TZID:America/Edmonton
BEGIN:DAYLIGHT
TZOFFSETFROM:-0700
TZOFFSETTO:-0600
TZNAME:MDT
DTSTART:20230312T090000
END:DAYLIGHT
BEGIN:STANDARD
TZOFFSETFROM:-0600
TZOFFSETTO:-0700
TZNAME:MST
DTSTART:20231105T080000
END:STANDARD
BEGIN:DAYLIGHT
TZOFFSETFROM:-0700
TZOFFSETTO:-0600
TZNAME:MDT
DTSTART:20240310T090000
END:DAYLIGHT
BEGIN:STANDARD
TZOFFSETFROM:-0600
TZOFFSETTO:-0700
TZNAME:MST
DTSTART:20241103T080000
END:STANDARD
BEGIN:DAYLIGHT
TZOFFSETFROM:-0700
TZOFFSETTO:-0600
TZNAME:MDT
DTSTART:20250309T090000
END:DAYLIGHT
BEGIN:STANDARD
TZOFFSETFROM:-0600
TZOFFSETTO:-0700
TZNAME:MST
DTSTART:20251102T080000
END:STANDARD
END:VTIMEZONE
BEGIN:VEVENT
DTSTART;TZID=America/Edmonton:20241024T190000
DTEND;TZID=America/Edmonton:20241024T210000
DTSTAMP:20260422T084234
CREATED:20241012T013309Z
LAST-MODIFIED:20241029T215912Z
UID:691-1729796400-1729803600@albearta.org
SUMMARY:YYC Bears & Beans
DESCRIPTION:Another night of Coffee and some tea for the Bears to enjoy. \nCome join us at our regular location\, \nGood Earth Café on 11th St SW.
URL:https://albearta.org/event/yyc-bears-beans/
LOCATION:Good Earth\, 1502 11 St SW\, Calgary\, Alberta\, T2R 1G9\, Canada
CATEGORIES:☕ Bears & Beans
ATTACH;FMTTYPE=image/jpeg:https://albearta.org/wp-content/uploads/2024/10/Bears-Beans-Oct-24-2024.jpg
END:VEVENT
END:VCALENDAR