BEGIN:VCALENDAR
VERSION:2.0
PRODID:-//Fellowship of Alberta Bears - ECPv6.15.20//NONSGML v1.0//EN
CALSCALE:GREGORIAN
METHOD:PUBLISH
X-WR-CALNAME:Fellowship of Alberta Bears
X-ORIGINAL-URL:https://albearta.org
X-WR-CALDESC:Events for Fellowship of Alberta Bears
REFRESH-INTERVAL;VALUE=DURATION:PT1H
X-Robots-Tag:noindex
X-PUBLISHED-TTL:PT1H
BEGIN:VTIMEZONE
TZID:America/Edmonton
BEGIN:DAYLIGHT
TZOFFSETFROM:-0700
TZOFFSETTO:-0600
TZNAME:MDT
DTSTART:20240310T090000
END:DAYLIGHT
BEGIN:STANDARD
TZOFFSETFROM:-0600
TZOFFSETTO:-0700
TZNAME:MST
DTSTART:20241103T080000
END:STANDARD
BEGIN:DAYLIGHT
TZOFFSETFROM:-0700
TZOFFSETTO:-0600
TZNAME:MDT
DTSTART:20250309T090000
END:DAYLIGHT
BEGIN:STANDARD
TZOFFSETFROM:-0600
TZOFFSETTO:-0700
TZNAME:MST
DTSTART:20251102T080000
END:STANDARD
BEGIN:DAYLIGHT
TZOFFSETFROM:-0700
TZOFFSETTO:-0600
TZNAME:MDT
DTSTART:20260308T090000
END:DAYLIGHT
BEGIN:STANDARD
TZOFFSETFROM:-0600
TZOFFSETTO:-0700
TZNAME:MST
DTSTART:20261101T080000
END:STANDARD
END:VTIMEZONE
BEGIN:VEVENT
DTSTART;TZID=America/Edmonton:20250529T190000
DTEND;TZID=America/Edmonton:20250529T210000
DTSTAMP:20260421T195028
CREATED:20250502T125932Z
LAST-MODIFIED:20250515T201125Z
UID:1721-1748545200-1748552400@albearta.org
SUMMARY:YYC Bears N Beans
DESCRIPTION:Another night of Coffee and some tea for the Bears to enjoy. Come join us at our regular location\, Good Earth Café on 11th St SW.
URL:https://albearta.org/event/yyc-bears-n-beans-3/
LOCATION:Good Earth\, 1502 11 St SW\, Calgary\, Alberta\, T2R 1G9\, Canada
CATEGORIES:☕ Bears & Beans
ATTACH;FMTTYPE=image/png:https://albearta.org/wp-content/uploads/2025/05/Bears-N-Beans-Hosted-at-GoodEarth-Coffee-Shop-1502-11Ave-SW-10.png
END:VEVENT
END:VCALENDAR